BEGIN:VCALENDAR
VERSION:2.0
PRODID:-//St Peters Church in the City - ECPv6.15.20//NONSGML v1.0//EN
CALSCALE:GREGORIAN
METHOD:PUBLISH
X-ORIGINAL-URL:https://stpeters.org.nz
X-WR-CALDESC:Events for St Peters Church in the City
REFRESH-INTERVAL;VALUE=DURATION:PT1H
X-Robots-Tag:noindex
X-PUBLISHED-TTL:PT1H
BEGIN:VTIMEZONE
TZID:Pacific/Auckland
BEGIN:STANDARD
TZOFFSETFROM:+1300
TZOFFSETTO:+1200
TZNAME:NZST
DTSTART:20220402T140000
END:STANDARD
BEGIN:DAYLIGHT
TZOFFSETFROM:+1200
TZOFFSETTO:+1300
TZNAME:NZDT
DTSTART:20220924T140000
END:DAYLIGHT
BEGIN:STANDARD
TZOFFSETFROM:+1300
TZOFFSETTO:+1200
TZNAME:NZST
DTSTART:20230401T140000
END:STANDARD
BEGIN:DAYLIGHT
TZOFFSETFROM:+1200
TZOFFSETTO:+1300
TZNAME:NZDT
DTSTART:20230923T140000
END:DAYLIGHT
BEGIN:STANDARD
TZOFFSETFROM:+1300
TZOFFSETTO:+1200
TZNAME:NZST
DTSTART:20240406T140000
END:STANDARD
BEGIN:DAYLIGHT
TZOFFSETFROM:+1200
TZOFFSETTO:+1300
TZNAME:NZDT
DTSTART:20240928T140000
END:DAYLIGHT
END:VTIMEZONE
BEGIN:VEVENT
DTSTART;TZID=Pacific/Auckland:20231019T093000
DTEND;TZID=Pacific/Auckland:20231019T120000
DTSTAMP:20260420T231654
CREATED:20230317T072019Z
LAST-MODIFIED:20230706T103951Z
UID:2035-1697707800-1697716800@stpeters.org.nz
SUMMARY:Tools for Life
DESCRIPTION:Tools for Life is a friendly group where you’ll discover the life skills to thrive. You will gain practical skills and discover new ways to live for a brighter future. \nOver eight sessions your Tools for Life coach will provide you with practical and relevant support to ensure you get the most out of the course. They are open and caring people who will walk with you every step of the Tools for Life journey. \nTools for Life provides a community of like-minded people from your area that you can support and be supported by throughout the course. They’ll be people in similar situations to you — people who will understand you and can encourage you. \nThe course is led by trained and experienced facilitators.\nWeekly morning tea and end-of-course celebration lunch provided.\nThis course runs for 8 weeks in Terms 2 and 4 every year
URL:https://stpeters.org.nz/event/tools-for-life/
LOCATION:St Peters Church in the City\, 130 Spring Street\, Tauranga\, Bay of Plenty\, 3110\, New Zealand
CATEGORIES:Community
ATTACH;FMTTYPE=image/jpeg:https://stpeters.org.nz/wp-content/uploads/2023/07/St-Peters-event_Tools-for-Life.jpg
END:VEVENT
END:VCALENDAR