BEGIN:VCALENDAR
VERSION:2.0
PRODID:-//St Peters Church in the City - ECPv6.15.20//NONSGML v1.0//EN
CALSCALE:GREGORIAN
METHOD:PUBLISH
X-WR-CALNAME:St Peters Church in the City
X-ORIGINAL-URL:https://stpeters.org.nz
X-WR-CALDESC:Events for St Peters Church in the City
REFRESH-INTERVAL;VALUE=DURATION:PT1H
X-Robots-Tag:noindex
X-PUBLISHED-TTL:PT1H
BEGIN:VTIMEZONE
TZID:Pacific/Auckland
BEGIN:STANDARD
TZOFFSETFROM:+1300
TZOFFSETTO:+1200
TZNAME:NZST
DTSTART:20220402T140000
END:STANDARD
BEGIN:DAYLIGHT
TZOFFSETFROM:+1200
TZOFFSETTO:+1300
TZNAME:NZDT
DTSTART:20220924T140000
END:DAYLIGHT
BEGIN:STANDARD
TZOFFSETFROM:+1300
TZOFFSETTO:+1200
TZNAME:NZST
DTSTART:20230401T140000
END:STANDARD
BEGIN:DAYLIGHT
TZOFFSETFROM:+1200
TZOFFSETTO:+1300
TZNAME:NZDT
DTSTART:20230923T140000
END:DAYLIGHT
BEGIN:STANDARD
TZOFFSETFROM:+1300
TZOFFSETTO:+1200
TZNAME:NZST
DTSTART:20240406T140000
END:STANDARD
BEGIN:DAYLIGHT
TZOFFSETFROM:+1200
TZOFFSETTO:+1300
TZNAME:NZDT
DTSTART:20240928T140000
END:DAYLIGHT
END:VTIMEZONE
BEGIN:VEVENT
DTSTART;TZID=Pacific/Auckland:20231203T173000
DTEND;TZID=Pacific/Auckland:20231203T193000
DTSTAMP:20260420T184533
CREATED:20231106T233557Z
LAST-MODIFIED:20231110T222036Z
UID:2811-1701624600-1701631800@stpeters.org.nz
SUMMARY:Christmas Carols on the Waterfront
DESCRIPTION:Christmas Carols on the Waterfront Free Christmas Event \nHeld Dec 3rd at 5:30PM on the Tauranga Waterfront \n THIRD UPCOMING PRACTISE:  \nMonday 20th November at 7pm – 9pm at St Peters Church \nLAST REHEARSAL PRACTISE: \nSaturday 2nd december 3pm – 6pm at St Peters Church \nPlease click below if you would like to join or to see more info on rehearsal dates.
URL:https://stpeters.org.nz/event/christmas-carols-on-the-waterfront/
LOCATION:Tauranga Waterfront\, Harbour Drive\, Otumoetai\, Tauranga\, 3110\, New Zealand
CATEGORIES:Community,Outreach
ATTACH;FMTTYPE=image/jpeg:https://stpeters.org.nz/wp-content/uploads/2023/11/Carols-in-the-Waterfront-2023-DEC-3RD.jpg
END:VEVENT
BEGIN:VEVENT
DTSTART;TZID=Pacific/Auckland:20231225T170000
DTEND;TZID=Pacific/Auckland:20231225T190000
DTSTAMP:20260420T184533
CREATED:20231110T213822Z
LAST-MODIFIED:20231128T000133Z
UID:2797-1703523600-1703530800@stpeters.org.nz
SUMMARY:Free Community Christmas Dinner
DESCRIPTION:St Peters in the City\, 130 Spring Street\, Tauranga \n\nMonday 25th December\, 5pm till 7pm\nDinner served at 5pm\nMaximum capacity for guests – 250 people as per the NZ Fire Safety Standards. \nFor enquiries\, please call the Church office\, Tues-Fri 9am-2pm: 07 578 9608 \n\nClick here to see more info
URL:https://stpeters.org.nz/event/free-community-christmas-dinner/
LOCATION:St Peters Church in the City\, 130 Spring Street\, Tauranga\, Bay of Plenty\, 3110\, New Zealand
CATEGORIES:Community,Outreach
ATTACH;FMTTYPE=image/jpeg:https://stpeters.org.nz/wp-content/uploads/2023/11/Christmas-Dinner-2023-website-image.jpg
ORGANIZER;CN="St Peters Church":MAILTO:office@stpeters.org.nz
END:VEVENT
END:VCALENDAR