BEGIN:VCALENDAR
VERSION:2.0
PRODID:-//St Peters Church in the City - ECPv6.15.20//NONSGML v1.0//EN
CALSCALE:GREGORIAN
METHOD:PUBLISH
X-ORIGINAL-URL:https://stpeters.org.nz
X-WR-CALDESC:Events for St Peters Church in the City
REFRESH-INTERVAL;VALUE=DURATION:PT1H
X-Robots-Tag:noindex
X-PUBLISHED-TTL:PT1H
BEGIN:VTIMEZONE
TZID:Pacific/Auckland
BEGIN:STANDARD
TZOFFSETFROM:+1300
TZOFFSETTO:+1200
TZNAME:NZST
DTSTART:20240406T140000
END:STANDARD
BEGIN:DAYLIGHT
TZOFFSETFROM:+1200
TZOFFSETTO:+1300
TZNAME:NZDT
DTSTART:20240928T140000
END:DAYLIGHT
BEGIN:STANDARD
TZOFFSETFROM:+1300
TZOFFSETTO:+1200
TZNAME:NZST
DTSTART:20250405T140000
END:STANDARD
BEGIN:DAYLIGHT
TZOFFSETFROM:+1200
TZOFFSETTO:+1300
TZNAME:NZDT
DTSTART:20250927T140000
END:DAYLIGHT
BEGIN:STANDARD
TZOFFSETFROM:+1300
TZOFFSETTO:+1200
TZNAME:NZST
DTSTART:20260404T140000
END:STANDARD
BEGIN:DAYLIGHT
TZOFFSETFROM:+1200
TZOFFSETTO:+1300
TZNAME:NZDT
DTSTART:20260926T140000
END:DAYLIGHT
END:VTIMEZONE
BEGIN:VEVENT
DTSTART;TZID=Pacific/Auckland:20250715T190000
DTEND;TZID=Pacific/Auckland:20250715T210000
DTSTAMP:20260420T142704
CREATED:20250716T232037Z
LAST-MODIFIED:20250716T234621Z
UID:3968-1752606000-1752613200@stpeters.org.nz
SUMMARY:The Prayer Course Session 1 - Why Pray?
DESCRIPTION:Join us at St Peter’s in the City for The Prayer Course\, an inspiring 8‑week journey through the Lord’s Prayer—running Tuesdays at 7:15 pm from 15 July to 2 September. Whether you’re new to prayer or seeking renewal\, you’ll enjoy warm teaching\, group discussion\, and guided prayer in a welcoming community. No experience needed—just bring yourself and a willingness to grow. We’d love to share this journey with you—come and deepen your prayer life together! \nClick here to begin the Prayer Course Session 1
URL:https://stpeters.org.nz/event/the-prayer-course-session-1-why-pray/
LOCATION:St Peters Church in the City\, 130 Spring Street\, Tauranga\, Bay of Plenty\, 3110\, New Zealand
CATEGORIES:Prayer
ATTACH;FMTTYPE=image/png:https://stpeters.org.nz/wp-content/uploads/2025/07/Screenshot-2025-07-17-111426.png
ORGANIZER;CN="St Peters Church":MAILTO:office@stpeters.org.nz
END:VEVENT
BEGIN:VEVENT
DTSTART;TZID=Pacific/Auckland:20250722T190000
DTEND;TZID=Pacific/Auckland:20250722T210000
DTSTAMP:20260420T142704
CREATED:20250716T233923Z
LAST-MODIFIED:20250716T234406Z
UID:3974-1753210800-1753218000@stpeters.org.nz
SUMMARY:The Prayer Course Session 2 - Adoration
DESCRIPTION:Join us at St Peter’s in the City for The Prayer Course\, an inspiring 8‑week journey through the Lord’s Prayer—running Tuesdays at 7:15 pm from 15 July to 2 September. Whether you’re new to prayer or seeking renewal\, you’ll enjoy warm teaching\, group discussion\, and guided prayer in a welcoming community. No experience needed—just bring yourself and a willingness to grow. We’d love to share this journey with you—come and deepen your prayer life together! \nClick here to begin the Prayer Course Session 1 – Why Pray?Click here to begin the Prayer Course Session 2 – Adoration
URL:https://stpeters.org.nz/event/the-prayer-course-session-2/
LOCATION:St Peters Church in the City\, 130 Spring Street\, Tauranga\, Bay of Plenty\, 3110\, New Zealand
CATEGORIES:Prayer
ATTACH;FMTTYPE=image/png:https://stpeters.org.nz/wp-content/uploads/2025/07/Screenshot-2025-07-17-111426.png
ORGANIZER;CN="St Peters Church":MAILTO:office@stpeters.org.nz
END:VEVENT
BEGIN:VEVENT
DTSTART;TZID=Pacific/Auckland:20250729T190000
DTEND;TZID=Pacific/Auckland:20250729T210000
DTSTAMP:20260420T142704
CREATED:20250716T235321Z
LAST-MODIFIED:20250716T235321Z
UID:3980-1753815600-1753822800@stpeters.org.nz
SUMMARY:The Prayer Course Session 3 - Petition
DESCRIPTION:Join us at St Peter’s in the City for The Prayer Course\, an inspiring 8‑week journey through the Lord’s Prayer—running Tuesdays at 7:15 pm from 15 July to 2 September. Whether you’re new to prayer or seeking renewal\, you’ll enjoy warm teaching\, group discussion\, and guided prayer in a welcoming community. No experience needed—just bring yourself and a willingness to grow. We’d love to share this journey with you—come and deepen your prayer life together! \nClick here to begin the Prayer Course Session 1 – Why Pray?Click here to begin the Prayer Course Session 2 – AdorationClick here to begin the Prayer Course Session 3 – Petition
URL:https://stpeters.org.nz/event/the-prayer-course-session-3-petition/
LOCATION:St Peters Church in the City\, 130 Spring Street\, Tauranga\, Bay of Plenty\, 3110\, New Zealand
CATEGORIES:Prayer
ATTACH;FMTTYPE=image/png:https://stpeters.org.nz/wp-content/uploads/2025/07/Screenshot-2025-07-17-111426.png
ORGANIZER;CN="St Peters Church":MAILTO:office@stpeters.org.nz
END:VEVENT
END:VCALENDAR