BEGIN:VCALENDAR
VERSION:2.0
PRODID:-//St Peters Church in the City - ECPv6.15.20//NONSGML v1.0//EN
CALSCALE:GREGORIAN
METHOD:PUBLISH
X-ORIGINAL-URL:https://stpeters.org.nz
X-WR-CALDESC:Events for St Peters Church in the City
REFRESH-INTERVAL;VALUE=DURATION:PT1H
X-Robots-Tag:noindex
X-PUBLISHED-TTL:PT1H
BEGIN:VTIMEZONE
TZID:Pacific/Auckland
BEGIN:STANDARD
TZOFFSETFROM:+1300
TZOFFSETTO:+1200
TZNAME:NZST
DTSTART:20240406T140000
END:STANDARD
BEGIN:DAYLIGHT
TZOFFSETFROM:+1200
TZOFFSETTO:+1300
TZNAME:NZDT
DTSTART:20240928T140000
END:DAYLIGHT
BEGIN:STANDARD
TZOFFSETFROM:+1300
TZOFFSETTO:+1200
TZNAME:NZST
DTSTART:20250405T140000
END:STANDARD
BEGIN:DAYLIGHT
TZOFFSETFROM:+1200
TZOFFSETTO:+1300
TZNAME:NZDT
DTSTART:20250927T140000
END:DAYLIGHT
BEGIN:STANDARD
TZOFFSETFROM:+1300
TZOFFSETTO:+1200
TZNAME:NZST
DTSTART:20260404T140000
END:STANDARD
BEGIN:DAYLIGHT
TZOFFSETFROM:+1200
TZOFFSETTO:+1300
TZNAME:NZDT
DTSTART:20260926T140000
END:DAYLIGHT
END:VTIMEZONE
BEGIN:VEVENT
DTSTART;TZID=Pacific/Auckland:20250805T190000
DTEND;TZID=Pacific/Auckland:20250805T210000
DTSTAMP:20260420T124933
CREATED:20250716T235559Z
LAST-MODIFIED:20250716T235630Z
UID:3983-1754420400-1754427600@stpeters.org.nz
SUMMARY:The Prayer Course Session 4 - Intercession
DESCRIPTION:Join us at St Peter’s in the City for The Prayer Course\, an inspiring 8‑week journey through the Lord’s Prayer—running Tuesdays at 7:15 pm from 15 July to 2 September. Whether you’re new to prayer or seeking renewal\, you’ll enjoy warm teaching\, group discussion\, and guided prayer in a welcoming community. No experience needed—just bring yourself and a willingness to grow. We’d love to share this journey with you—come and deepen your prayer life together! \nClick here to begin the Prayer Course Session 1 – Why Pray?Click here to begin the Prayer Course Session 2 – AdorationClick here to begin the Prayer Course Session 3 – PetitionClick here to begin the Prayer Course Session 4 – Intercession
URL:https://stpeters.org.nz/event/the-prayer-course-session-4-intercession/
LOCATION:St Peters Church in the City\, 130 Spring Street\, Tauranga\, Bay of Plenty\, 3110\, New Zealand
CATEGORIES:Prayer
ATTACH;FMTTYPE=image/png:https://stpeters.org.nz/wp-content/uploads/2025/07/Screenshot-2025-07-17-111426.png
ORGANIZER;CN="St Peters Church":MAILTO:office@stpeters.org.nz
END:VEVENT
BEGIN:VEVENT
DTSTART;TZID=Pacific/Auckland:20250812T190000
DTEND;TZID=Pacific/Auckland:20250812T210000
DTSTAMP:20260420T124933
CREATED:20250716T235845Z
LAST-MODIFIED:20250716T235845Z
UID:3987-1755025200-1755032400@stpeters.org.nz
SUMMARY:The Prayer Course Session 5 - Unanswered Prayer
DESCRIPTION:Join us at St Peter’s in the City for The Prayer Course\, an inspiring 8‑week journey through the Lord’s Prayer—running Tuesdays at 7:15 pm from 15 July to 2 September. Whether you’re new to prayer or seeking renewal\, you’ll enjoy warm teaching\, group discussion\, and guided prayer in a welcoming community. No experience needed—just bring yourself and a willingness to grow. We’d love to share this journey with you—come and deepen your prayer life together! \nClick here to begin the Prayer Course Session 1 – Why Pray?Click here to begin the Prayer Course Session 2 – AdorationClick here to begin the Prayer Course Session 3 – PetitionClick here to begin the Prayer Course Session 4 – IntercessionClick here to begin the Prayer Course Session 5 – Unanswered Prayer
URL:https://stpeters.org.nz/event/the-prayer-course-session-5-unanswered-prayer/
LOCATION:St Peters Church in the City\, 130 Spring Street\, Tauranga\, Bay of Plenty\, 3110\, New Zealand
CATEGORIES:Prayer
ATTACH;FMTTYPE=image/png:https://stpeters.org.nz/wp-content/uploads/2025/07/Screenshot-2025-07-17-111426.png
ORGANIZER;CN="St Peters Church":MAILTO:office@stpeters.org.nz
END:VEVENT
BEGIN:VEVENT
DTSTART;TZID=Pacific/Auckland:20250819T190000
DTEND;TZID=Pacific/Auckland:20250819T210000
DTSTAMP:20260420T124933
CREATED:20250717T000324Z
LAST-MODIFIED:20250717T000324Z
UID:3990-1755630000-1755637200@stpeters.org.nz
SUMMARY:The Prayer Course Session 6 - Contemplation
DESCRIPTION:Join us at St Peter’s in the City for The Prayer Course\, an inspiring 8‑week journey through the Lord’s Prayer—running Tuesdays at 7:15 pm from 15 July to 2 September. Whether you’re new to prayer or seeking renewal\, you’ll enjoy warm teaching\, group discussion\, and guided prayer in a welcoming community. No experience needed—just bring yourself and a willingness to grow. We’d love to share this journey with you—come and deepen your prayer life together! \nClick here to begin the Prayer Course Session 1 – Why Pray?Click here to begin the Prayer Course Session 2 – AdorationClick here to begin the Prayer Course Session 3 – PetitionClick here to begin the Prayer Course Session 4 – IntercessionClick here to begin the Prayer Course Session 5 – Unanswered PrayerClick here to begin the Prayer Course Session 6 – Contemplation
URL:https://stpeters.org.nz/event/the-prayer-course-session-6-contemplation/
LOCATION:St Peters Church in the City\, 130 Spring Street\, Tauranga\, Bay of Plenty\, 3110\, New Zealand
CATEGORIES:Prayer
ATTACH;FMTTYPE=image/png:https://stpeters.org.nz/wp-content/uploads/2025/07/Screenshot-2025-07-17-111426.png
ORGANIZER;CN="St Peters Church":MAILTO:office@stpeters.org.nz
END:VEVENT
BEGIN:VEVENT
DTSTART;TZID=Pacific/Auckland:20250826T190000
DTEND;TZID=Pacific/Auckland:20250826T210000
DTSTAMP:20260420T124933
CREATED:20250717T001537Z
LAST-MODIFIED:20250717T001537Z
UID:3999-1756234800-1756242000@stpeters.org.nz
SUMMARY:The Prayer Course Session 7 - Listening
DESCRIPTION:Join us at St Peter’s in the City for The Prayer Course\, an inspiring 8‑week journey through the Lord’s Prayer—running Tuesdays at 7:15 pm from 15 July to 2 September. Whether you’re new to prayer or seeking renewal\, you’ll enjoy warm teaching\, group discussion\, and guided prayer in a welcoming community. No experience needed—just bring yourself and a willingness to grow. We’d love to share this journey with you—come and deepen your prayer life together! \nClick here to begin the Prayer Course Session 1 – Why Pray?Click here to begin the Prayer Course Session 2 – AdorationClick here to begin the Prayer Course Session 3 – PetitionClick here to begin the Prayer Course Session 4 – IntercessionClick here to begin the Prayer Course Session 5 – Unanswered PrayerClick here to begin the Prayer Course Session 6 – ContemplationClick here to begin the Prayer Course Session 7 – Listening
URL:https://stpeters.org.nz/event/the-prayer-course-session-7-listening/
LOCATION:St Peters Church in the City\, 130 Spring Street\, Tauranga\, Bay of Plenty\, 3110\, New Zealand
CATEGORIES:Prayer
ATTACH;FMTTYPE=image/png:https://stpeters.org.nz/wp-content/uploads/2025/07/Screenshot-2025-07-17-111426.png
ORGANIZER;CN="St Peters Church":MAILTO:office@stpeters.org.nz
END:VEVENT
END:VCALENDAR