BEGIN:VCALENDAR
VERSION:2.0
PRODID:-//St Peters Church in the City - ECPv6.15.20//NONSGML v1.0//EN
CALSCALE:GREGORIAN
METHOD:PUBLISH
X-ORIGINAL-URL:https://stpeters.org.nz
X-WR-CALDESC:Events for St Peters Church in the City
REFRESH-INTERVAL;VALUE=DURATION:PT1H
X-Robots-Tag:noindex
X-PUBLISHED-TTL:PT1H
BEGIN:VTIMEZONE
TZID:Pacific/Auckland
BEGIN:STANDARD
TZOFFSETFROM:+1300
TZOFFSETTO:+1200
TZNAME:NZST
DTSTART:20250405T140000
END:STANDARD
BEGIN:DAYLIGHT
TZOFFSETFROM:+1200
TZOFFSETTO:+1300
TZNAME:NZDT
DTSTART:20250927T140000
END:DAYLIGHT
BEGIN:STANDARD
TZOFFSETFROM:+1300
TZOFFSETTO:+1200
TZNAME:NZST
DTSTART:20260404T140000
END:STANDARD
BEGIN:DAYLIGHT
TZOFFSETFROM:+1200
TZOFFSETTO:+1300
TZNAME:NZDT
DTSTART:20260926T140000
END:DAYLIGHT
BEGIN:STANDARD
TZOFFSETFROM:+1300
TZOFFSETTO:+1200
TZNAME:NZST
DTSTART:20270403T140000
END:STANDARD
BEGIN:DAYLIGHT
TZOFFSETFROM:+1200
TZOFFSETTO:+1300
TZNAME:NZDT
DTSTART:20270925T140000
END:DAYLIGHT
END:VTIMEZONE
BEGIN:VEVENT
DTSTART;TZID=Pacific/Auckland:20260403T093000
DTEND;TZID=Pacific/Auckland:20260403T103000
DTSTAMP:20260425T235509
CREATED:20260318T093430Z
LAST-MODIFIED:20260319T223008Z
UID:2074-1775208600-1775212200@stpeters.org.nz
SUMMARY:Good Friday
DESCRIPTION:A quiet reflective service that allows people some space to engage with the brutal and life-changing story of Good Friday. We listen to the story of Christ’s sacrifice on the cross that brings hope and life.
URL:https://stpeters.org.nz/event/good-friday/
LOCATION:St Peters Church in the City\, 130 Spring Street\, Tauranga\, Bay of Plenty\, 3110\, New Zealand
CATEGORIES:Community,Family
ATTACH;FMTTYPE=image/jpeg:https://stpeters.org.nz/wp-content/uploads/2026/03/Good-Friday-Service.jpg
ORGANIZER;CN="St Peters Church":MAILTO:office@stpeters.org.nz
END:VEVENT
END:VCALENDAR