BEGIN:VCALENDAR
VERSION:2.0
PRODID:-//St Peters Church in the City - ECPv6.15.20//NONSGML v1.0//EN
CALSCALE:GREGORIAN
METHOD:PUBLISH
X-WR-CALNAME:St Peters Church in the City
X-ORIGINAL-URL:https://stpeters.org.nz
X-WR-CALDESC:Events for St Peters Church in the City
REFRESH-INTERVAL;VALUE=DURATION:PT1H
X-Robots-Tag:noindex
X-PUBLISHED-TTL:PT1H
BEGIN:VTIMEZONE
TZID:Pacific/Auckland
BEGIN:STANDARD
TZOFFSETFROM:+1300
TZOFFSETTO:+1200
TZNAME:NZST
DTSTART:20230401T140000
END:STANDARD
BEGIN:DAYLIGHT
TZOFFSETFROM:+1200
TZOFFSETTO:+1300
TZNAME:NZDT
DTSTART:20230923T140000
END:DAYLIGHT
BEGIN:STANDARD
TZOFFSETFROM:+1300
TZOFFSETTO:+1200
TZNAME:NZST
DTSTART:20240406T140000
END:STANDARD
BEGIN:DAYLIGHT
TZOFFSETFROM:+1200
TZOFFSETTO:+1300
TZNAME:NZDT
DTSTART:20240928T140000
END:DAYLIGHT
BEGIN:STANDARD
TZOFFSETFROM:+1300
TZOFFSETTO:+1200
TZNAME:NZST
DTSTART:20250405T140000
END:STANDARD
BEGIN:DAYLIGHT
TZOFFSETFROM:+1200
TZOFFSETTO:+1300
TZNAME:NZDT
DTSTART:20250927T140000
END:DAYLIGHT
END:VTIMEZONE
BEGIN:VEVENT
DTSTART;TZID=Pacific/Auckland:20240229T183000
DTEND;TZID=Pacific/Auckland:20240229T204500
DTSTAMP:20260423T170949
CREATED:20231110T220204Z
LAST-MODIFIED:20231110T220614Z
UID:2913-1709231400-1709239500@stpeters.org.nz
SUMMARY:Alpha - Session 3: 29th Feb 2024
DESCRIPTION:Connect with other people in the community who are wanting to know more about Jesus. Join us at St Peters Church in the City for a hosted course with Alpha material. Together we can explore tough questions about Faith\, develop our knowledge in Christianty and learn more about who Jesus is. If you are interested please add this event date to your calendar. We look forward to seeing you!
URL:https://stpeters.org.nz/event/alpha-session-3-29-feb-2024/
LOCATION:St Peters Church in the City\, 130 Spring Street\, Tauranga\, Bay of Plenty\, 3110\, New Zealand
CATEGORIES:Alpha,Outreach
ATTACH;FMTTYPE=image/jpeg:https://stpeters.org.nz/wp-content/uploads/2023/11/alpha-background-hosted.jpg
ORGANIZER;CN="St Peters Church":MAILTO:office@stpeters.org.nz
END:VEVENT
END:VCALENDAR